BEGIN:VCALENDAR
VERSION:2.0
CALSCALE:GREGORIAN
PRODID:Sportnet.sk
METHOD:PUBLISH
X-PUBLISHED-TTL:PT1H
BEGIN:VEVENT
UID:tvprogram-cal:69bddf89aae1188f03b58679
SUMMARY:voyo.sk: FC Tatran Prešov – FC Košice
DTSTAMP:20260315T134300Z
DTSTART:20260419T160000Z
DTEND:20260419T181000Z
DESCRIPTION:Futbal\, Niké liga\, 6. kolo nadstavby – skupina o udržanie sa
END:VEVENT
END:VCALENDAR
