BEGIN:VCALENDAR
VERSION:2.0
CALSCALE:GREGORIAN
PRODID:Sportnet.sk
METHOD:PUBLISH
X-PUBLISHED-TTL:PT1H
BEGIN:VEVENT
UID:tvprogram-cal:69bddf89aae1188f03b5863a
SUMMARY:voyo.sk: Nottingham - Burnley
DTSTAMP:20260315T134300Z
DTSTART:20260419T125500Z
DTEND:20260419T150500Z
DESCRIPTION:Futbal\, Anglicko\, 33. kolo
END:VEVENT
END:VCALENDAR
