BEGIN:VCALENDAR
VERSION:2.0
CALSCALE:GREGORIAN
PRODID:Sportnet.sk
METHOD:PUBLISH
X-PUBLISHED-TTL:PT1H
BEGIN:VEVENT
UID:tvprogram-cal:699c252a867c422c12ce4d31
SUMMARY:Šport: Slovensko - USA
DTSTAMP:20260315T134300Z
DTSTART:20260310T190000Z
DTEND:20260310T193000Z
DESCRIPTION:Curling\, ZPH
END:VEVENT
END:VCALENDAR
