BEGIN:VCALENDAR
VERSION:2.0
CALSCALE:GREGORIAN
PRODID:Sportnet.sk
METHOD:PUBLISH
X-PUBLISHED-TTL:PT1H
BEGIN:VEVENT
UID:tvprogram-cal:6517ea9f3a63e0928c03783b
SUMMARY:PRO7 MAXX: Francúzsko - Južná Afrika
DTSTAMP:20260315T134300Z
DTSTART:20231015T181500Z
DTEND:20231015T213000Z
DESCRIPTION:Rugby\, MS\, štvrťfinále
END:VEVENT
END:VCALENDAR
