BEGIN:VCALENDAR
VERSION:2.0
CALSCALE:GREGORIAN
PRODID:Sportnet.sk
METHOD:PUBLISH
X-PUBLISHED-TTL:PT1H
BEGIN:VEVENT
UID:tvprogram-cal:6513151f3a63e0928c5fe555
SUMMARY:ČT sport: Wales - Argentína
DTSTAMP:20260315T134300Z
DTSTART:20231014T145000Z
DTEND:20231014T171000Z
DESCRIPTION:Rugby\, MS\, štvrťfinále
END:VEVENT
END:VCALENDAR
