BEGIN:VCALENDAR
VERSION:2.0
CALSCALE:GREGORIAN
PRODID:Sportnet.sk
METHOD:PUBLISH
X-PUBLISHED-TTL:PT1H
BEGIN:VEVENT
UID:tvprogram-cal:65110cce2379578d1e92a19f
SUMMARY:Nova Sport 1: Sale Sharks - Northampton Saints
DTSTAMP:20260315T134300Z
DTSTART:20231015T122500Z
DTEND:20231015T143000Z
DESCRIPTION:Rugby\, Anglicko\, 1. kolo
END:VEVENT
END:VCALENDAR
